BEGIN:VCALENDAR
VERSION:2.0
PRODID:-//Tukios.com/
BEGIN:VEVENT
UID:dd079508-8cac-4b57-86da-0137b8110372@www.myersdurborawfh.com
DTSTAMP:20260422T194459Z
DTSTART:20260430T144500Z
DTEND:20260430T150000Z
SUMMARY:Graveside Service
DESCRIPTION:
URL:https://www.myersdurborawfh.com/obituaries/gene-grabowski
LOCATION: 11501 Garrison Forest Road  Owings Mills MD 21117
GEO:39.4399736;-76.7682208
END:VEVENT
END:VCALENDAR