BEGIN:VCALENDAR
VERSION:2.0
PRODID:-//Tukios.com/
BEGIN:VEVENT
UID:c40cfe53-e06a-4e25-8764-5e1f08d20e36@www.myersdurborawfh.com
DTSTAMP:20260421T213442Z
DTSTART:20260423T180000Z
DTEND:20260423T200000Z
SUMMARY:Visitation
DESCRIPTION:
URL:https://www.myersdurborawfh.com/obituaries/thelma-carr
LOCATION: 91 Willis St  Westminster MD 21157
GEO:39.5748088;-76.9917296
END:VEVENT
END:VCALENDAR