BEGIN:VCALENDAR
VERSION:2.0
PRODID:-//Tukios.com/
BEGIN:VEVENT
UID:7741eaae-77c5-434e-97f8-6a8d80ee0d80@www.myersdurborawfh.com
DTSTAMP:20260421T212923Z
DTSTART:20260423T220000Z
DTEND:20260424T000000Z
SUMMARY:Visitation
DESCRIPTION:
URL:https://www.myersdurborawfh.com/obituaries/thelma-carr
LOCATION: 91 Willis St  Westminster MD 21157
GEO:39.5748088;-76.9917296
END:VEVENT
END:VCALENDAR