BEGIN:VCALENDAR
VERSION:2.0
PRODID:-//Tukios.com/
BEGIN:VEVENT
UID:aede5057-4cb3-4e6a-a939-01940d4d7ce2@www.myersdurborawfh.com
DTSTAMP:20260421T213715Z
DTSTART:20260424T150000Z
DTEND:20260424T160000Z
SUMMARY:Funeral Service
DESCRIPTION:
URL:https://www.myersdurborawfh.com/obituaries/thelma-carr
LOCATION: 91 Willis St  Westminster MD 21157
GEO:39.5748088;-76.9917296
END:VEVENT
END:VCALENDAR