BEGIN:VCALENDAR
VERSION:2.0
PRODID:-//Tukios.com/
BEGIN:VEVENT
UID:d8143386-25bd-40ab-85e0-d5d76cf81fe6@www.myersdurborawfh.com
DTSTAMP:20260421T213442Z
DTSTART:20260424T163000Z
DTEND:20260424T170000Z
SUMMARY:Interment
DESCRIPTION:
URL:https://www.myersdurborawfh.com/obituaries/thelma-carr
LOCATION:Evergreen Memorial Gardens 2800 Old Westminster Pike  Finksburg 
	MD 21048
GEO:39.5027709;-76.8955153
END:VEVENT
END:VCALENDAR